BEGIN:VCALENDAR
VERSION:2.0
PRODID:-//Carrow Brown - ECPv6.15.20//NONSGML v1.0//EN
CALSCALE:GREGORIAN
METHOD:PUBLISH
X-WR-CALNAME:Carrow Brown
X-ORIGINAL-URL:https://carrowbrown.com
X-WR-CALDESC:Events for Carrow Brown
REFRESH-INTERVAL;VALUE=DURATION:PT1H
X-Robots-Tag:noindex
X-PUBLISHED-TTL:PT1H
BEGIN:VTIMEZONE
TZID:UTC
BEGIN:STANDARD
TZOFFSETFROM:+0000
TZOFFSETTO:+0000
TZNAME:UTC
DTSTART:20250101T000000
END:STANDARD
END:VTIMEZONE
BEGIN:VEVENT
DTSTART;TZID=UTC:20260319T080000
DTEND;TZID=UTC:20260322T170000
DTSTAMP:20260425T161842
CREATED:20251115T182443Z
LAST-MODIFIED:20251115T183941Z
UID:4478-1773907200-1774198800@carrowbrown.com
SUMMARY:MegaCon 2026
DESCRIPTION:If your heart beats for comics\, sci-fi\, horror\, anime\, gaming\, or cosplay\, this is your universe. Step into a space where you instantly belong—and where every corner sparks your imagination. \nJoin the massive community gathering at MEGACON Orlando\, home to over 180\,000 fans who celebrate what they love together. \nEvent Hours:Thursday: 4 PM – 9 PM*Friday: 10 AM – 7 PMSaturday: 10 AM – 7 PMSunday: 10 AM – 5 PM \n*Early entry at 2 PM on Thursday is available for VIP\, Ultimate\, and 4-Day pass holders who purchase ahead of time.
URL:https://carrowbrown.com/event/megacon-2026/
END:VEVENT
END:VCALENDAR